BEGIN:VCALENDAR
VERSION:2.0
PRODID:-//Richmond Solar Eclipse - ECPv6.15.20//NONSGML v1.0//EN
CALSCALE:GREGORIAN
METHOD:PUBLISH
X-WR-CALNAME:Richmond Solar Eclipse
X-ORIGINAL-URL:https://richmondsolareclipse.com
X-WR-CALDESC:Events for Richmond Solar Eclipse
REFRESH-INTERVAL;VALUE=DURATION:PT1H
X-Robots-Tag:noindex
X-PUBLISHED-TTL:PT1H
BEGIN:VTIMEZONE
TZID:America/Indiana/Indianapolis
BEGIN:DAYLIGHT
TZOFFSETFROM:-0500
TZOFFSETTO:-0400
TZNAME:EDT
DTSTART:20220313T070000
END:DAYLIGHT
BEGIN:STANDARD
TZOFFSETFROM:-0400
TZOFFSETTO:-0500
TZNAME:EST
DTSTART:20221106T060000
END:STANDARD
BEGIN:DAYLIGHT
TZOFFSETFROM:-0500
TZOFFSETTO:-0400
TZNAME:EDT
DTSTART:20230312T070000
END:DAYLIGHT
BEGIN:STANDARD
TZOFFSETFROM:-0400
TZOFFSETTO:-0500
TZNAME:EST
DTSTART:20231105T060000
END:STANDARD
BEGIN:DAYLIGHT
TZOFFSETFROM:-0500
TZOFFSETTO:-0400
TZNAME:EDT
DTSTART:20240310T070000
END:DAYLIGHT
BEGIN:STANDARD
TZOFFSETFROM:-0400
TZOFFSETTO:-0500
TZNAME:EST
DTSTART:20241103T060000
END:STANDARD
BEGIN:DAYLIGHT
TZOFFSETFROM:-0500
TZOFFSETTO:-0400
TZNAME:EDT
DTSTART:20250309T070000
END:DAYLIGHT
BEGIN:STANDARD
TZOFFSETFROM:-0400
TZOFFSETTO:-0500
TZNAME:EST
DTSTART:20251102T060000
END:STANDARD
END:VTIMEZONE
BEGIN:VEVENT
DTSTART;TZID=America/Indiana/Indianapolis:20240329T183000
DTEND;TZID=America/Indiana/Indianapolis:20240329T210000
DTSTAMP:20260422T081007
CREATED:20240223T195153Z
LAST-MODIFIED:20240223T195451Z
UID:2017-1711737000-1711746000@richmondsolareclipse.com
SUMMARY:Amigos Fiesta Eclipse
DESCRIPTION:Get ready for a night of dancing & live music at the Amigos Fiesta Eclipse! \nPavel & Direct Contact are set to deliver a captivating blend of Latin music and Latin-infused American pop tunes that will undoubtedly have you on your feet\, dancing the night away. This is an event that you do not want to miss. \nAnd that’s not all – enjoy dance lessons from Amigos’ very own\, Dolka DeMotte! She’ll show you the steps and rhythms\, getting everyone ready to hit the dance floor with style. \nDon’t hesitate – secure your tickets now. The event is scheduled for March 29th at New Boswell Brewery & Tap Room\, with all proceeds dedicated to supporting Amigos\, the Richmond Latino Center and its programs. \nBy joining our Fiesta Eclipse\, you not only contribute to a worthy cause but also ensure a fantastic time. Grab your friends\, put your dancing shoes on\, and get ready for an unforgettable event!
URL:https://richmondsolareclipse.com/events/amigos-fiesta-eclipse/
LOCATION:New Boswell Brewery & Tap Room\, 923 North E St.\, Richmond\, 47374\, United States
CATEGORIES:Richmond
ATTACH;FMTTYPE=image/jpeg:https://richmondsolareclipse.com/wp-content/uploads/2024/02/amigos-eclipse-event.jpg
END:VEVENT
BEGIN:VEVENT
DTSTART;TZID=America/Indiana/Indianapolis:20240327T180000
DTEND;TZID=America/Indiana/Indianapolis:20240327T190000
DTSTAMP:20260422T081007
CREATED:20240321T120727Z
LAST-MODIFIED:20240321T120808Z
UID:2292-1711562400-1711566000@richmondsolareclipse.com
SUMMARY:Solar Eclipse 101 with Dr. Wes Tobin
DESCRIPTION:Excited for our upcoming total solar eclipse? Come to this session and make sure you’re ready. Astronomer Dr. Wes Tobin is back by popular demand to make sure you know a solar umbra from penumbra and are prepared to view the eclipse! \nYou will have a chance to ask questions\, and each participant will leave with a pair of eclipse glasses. \nThis program is provided in collaboration with Indiana University East\, Richmond Parks and Recreation\, StarNet and Wayne County and Tourism Bureau. \nThis event is first-come\, first-served. The Bard Room is handicapped accessible; once in the building\, use our front stairwell or elevator to reach the lower level. Should you have accessibility needs\, please contact us in advance to discuss accommodations so we can work to best welcome you! \n\nAbout the presenter\nWes Tobin is a Professor at Indiana University East. His research areas include observing and modeling eclipsing binary stars. His degrees are from Ball State\, Iowa State and Indiana State.\n\nThis program is provided in partnership with Indiana University East\, Richmond Parks and Recreation and Wayne County and Tourism Bureau. Registration is not required but is available to hold your spot. The Bard Room is handicapped accessible; once in the building\, use our front stairwell or elevator to reach the lower level.
URL:https://richmondsolareclipse.com/events/solar-eclipse-101-with-dr-wes-tobin/
LOCATION:Morrisson-Reeves Library\, 80 N 6th St\, Richmond\, IN\, 47374\, United States
CATEGORIES:Richmond
ATTACH;FMTTYPE=image/jpeg:https://richmondsolareclipse.com/wp-content/uploads/2023/09/solar-eclipse-101.jpg
END:VEVENT
BEGIN:VEVENT
DTSTART;TZID=America/Indiana/Indianapolis:20240227T190000
DTEND;TZID=America/Indiana/Indianapolis:20240227T210000
DTSTAMP:20260422T081007
CREATED:20240105T151449Z
LAST-MODIFIED:20240227T162630Z
UID:1752-1709060400-1709067600@richmondsolareclipse.com
SUMMARY:American Eclipse Lecture
DESCRIPTION:Be a part of the American Eclipse Lecture! Starting at 7\,  join in for a fun and informative talk with PhD\, speaker\, author\, and astronomer Philip Plait regarding eclipses. Plus all you need to know about viewing a full solar eclipse safely. From 8-9 p.m.\, Dr. Plait will be signing copies of his book Under Alien Skies: A Sightseer’s Guide to the Universe. This is a free event but registration is required. \nRegister Here \n 
URL:https://richmondsolareclipse.com/events/american-eclipse-lecture/
LOCATION:I.U. East\, 2325 Chester Blvd.\, Richmond\, 47374\, United States
CATEGORIES:Richmond
ATTACH;FMTTYPE=image/jpeg:https://richmondsolareclipse.com/wp-content/uploads/2023/12/solar-eclipse-event-generic.jpg
END:VEVENT
BEGIN:VEVENT
DTSTART;TZID=America/Indiana/Indianapolis:20240223T140000
DTEND;TZID=America/Indiana/Indianapolis:20240223T160000
DTSTAMP:20260422T081007
CREATED:20240219T185028Z
LAST-MODIFIED:20240219T191145Z
UID:1990-1708696800-1708704000@richmondsolareclipse.com
SUMMARY:Eclipse Countdown Celebration Unveiling
DESCRIPTION:You are invited to celebrate with the Wayne County Convention & Tourism Bureau and Primex Design & Fabrication in the official countdown to the Solar Eclipse! The celebration kicks off at 2 p.m. on Friday\, February 23 at the Old National Road Welcome Center\, 5701 National Road East\, Richmond. The first 100 attendees will receive a free pair of eclipse glasses and an eclipse cling. \nPrimex Design & Fabrication will unveil their Solar Eclipse Countdown Clock\, which will journey to various locations across Richmond until April 8\, 2024. Additionally\, they will introduce their one and two-person hand-held Eclipse viewers and eclipse yard signs. \nJoin us to see the official Solar Eclipse Countdown Clock\, enter to win eclipse prizes\, enjoy refreshments\, and immerse yourself in the live broadcast by Kicks 96.\nThe Wayne County Convention & Tourism Bureau/Welcome Center is your Solar Eclipse Headquarters. You can purchase individual eclipse eyeglasses\, hand-held viewers\, yard signs\, t-shirts\, hats\, and a variety of memorabilia.
URL:https://richmondsolareclipse.com/events/eclipse-countdown-celebration-unveiling/
LOCATION:Richmond/Wayne County\, IN Convention & Tour Bureau\, 5701 National Rd. E\, Richmond\, IN\, 47374\, United States
CATEGORIES:Richmond
ATTACH;FMTTYPE=image/png:https://richmondsolareclipse.com/wp-content/uploads/2024/02/COUNTDOWN-CELEBRATION.png
END:VEVENT
BEGIN:VEVENT
DTSTART;TZID=America/Indiana/Indianapolis:20240221T170000
DTEND;TZID=America/Indiana/Indianapolis:20240221T170000
DTSTAMP:20260422T081007
CREATED:20231214T200753Z
LAST-MODIFIED:20240121T141051Z
UID:1602-1708534800-1708534800@richmondsolareclipse.com
SUMMARY:Learn about Astronomy & Eclipses and more!
DESCRIPTION:On Monday\, April 8\, 2024\, Wayne County will experience a Total Solar Eclipse. Join us to learn more about astronomy\, eclipses and more. Plus\, enjoy the eclipse at the Wayne County Fairground on April 8. \nParticipating ages grades 5th-8th grades. For more information\, call the Purdue Extension Wayne County Office at (765) 973-9281 or email acriswel@purdue.edu
URL:https://richmondsolareclipse.com/events/learn-about-astronomy-eclipses-and-more/
LOCATION:First Bank Kuhlman Center\, 861 Salisbury Road\, Richmond\, IN\, 47374\, United States
CATEGORIES:Richmond
ATTACH;FMTTYPE=image/jpeg:https://richmondsolareclipse.com/wp-content/uploads/2023/12/solar-eclipse-event-generic.jpg
ORGANIZER;CN="Purdue Extension Wayne County Office":MAILTO:acriswel@purdue.edu
END:VEVENT
BEGIN:VEVENT
DTSTART;TZID=America/Indiana/Indianapolis:20240117T190000
DTEND;TZID=America/Indiana/Indianapolis:20240117T210000
DTSTAMP:20260422T081007
CREATED:20231006T160114Z
LAST-MODIFIED:20231230T153648Z
UID:1371-1705518000-1705525200@richmondsolareclipse.com
SUMMARY:2024 Total Solar Eclipse Photography Class
DESCRIPTION:Learn how to capture stunning eclipse photographs in this in-person photography class. Jim Chagares\, Master of Photography and Fellow of the American Society of Photography\, will present a free class on how to photograph this once-in-a-lifetime event. Do not leave your photographs to chance. You have only one try to get this right. \nThe class is open to all levels of experience from smartphones to professional photographers. You will learn what equipment\, apps\, and techniques will bring the best results. Postproduction techniques will also be discussed. Prepare now for the eclipse. Free for beginning photographers to advance professionals. \nRegister Now\n 
URL:https://richmondsolareclipse.com/events/2024-total-solar-eclipse-photography-class/
LOCATION:Ivy Tech College\, 2357 Chester Blvd.\, Richmond\, IN\, 47374\, United States
CATEGORIES:Richmond
ATTACH;FMTTYPE=image/jpeg:https://richmondsolareclipse.com/wp-content/uploads/2023/10/1_Totality.jpg
END:VEVENT
BEGIN:VEVENT
DTSTART;TZID=America/Indiana/Indianapolis:20231014T113000
DTEND;TZID=America/Indiana/Indianapolis:20231014T143000
DTSTAMP:20260422T081007
CREATED:20230928T174921Z
LAST-MODIFIED:20231230T153648Z
UID:1324-1697283000-1697293800@richmondsolareclipse.com
SUMMARY:Partial Solar Eclipse
DESCRIPTION:On Saturday\, Oct. 14\, 2023\, an annular solar eclipse will cross North\, Central\, and South America and be visible from Wayne County\, Indiana. Unlike the April\, 2024 total eclipse\, the sun will not be completely covered by the moon. From Wayne County\, the sun will be about 50%  covered. \nThis is a good opportunity to test out your eclipse viewing glasses and plan in advance for the total solar eclipse of April 2024.
URL:https://richmondsolareclipse.com/events/partial-solar-eclipse/
LOCATION:IN
CATEGORIES:Cambridge City,Centerville,Fountain City,Hagerstown,Milton,Richmond
ATTACH;FMTTYPE=image/jpeg:https://richmondsolareclipse.com/wp-content/uploads/2023/09/partial-eclipse.jpg
END:VEVENT
BEGIN:VEVENT
DTSTART;TZID=America/Indiana/Indianapolis:20231013T120000
DTEND;TZID=America/Indiana/Indianapolis:20231013T130000
DTSTAMP:20260422T081007
CREATED:20230921T164839Z
LAST-MODIFIED:20231230T153648Z
UID:1247-1697198400-1697202000@richmondsolareclipse.com
SUMMARY:Solar Eclipse 201: Safely See the Partial Eclipse
DESCRIPTION:Want to get a safe and close-up view of the sun in preparation for our upcoming eclipses? Come on out to Elstro Plaza to use a telescope during the day to view the sun! This unique opportunity will give you an opportunity to see sunspots firsthand.\nAstronomer Dr. Wes Tobin will demonstrate safe sun viewing in preparation for eclipses. You will have a chance to ask questions\, and each participant will leave with a pair of eclipse glasses. Participants may also be interested in our earlier program “Solar Eclipse 101 with IU East Astronomer Dr. Wes Tobin” on Oct. 11 from 6-7 p.m. at the Library.\nAbout the presenter\nWes Tobin is a Professor at Indiana University East. His research areas include observing and modeling eclipsing binary stars. His degrees are from Ball State\, Iowa State and Indiana State. This program is provided in collaboration with Indiana University East\, Richmond Parks and Recreation and Wayne County and Tourism Bureau.
URL:https://richmondsolareclipse.com/events/solar-eclipse-201-safely-see-the-partial-eclipse/
LOCATION:Elstro Plaza\, 47 N 6th St\, Richmond\, 47374\, United States
CATEGORIES:Richmond
ATTACH;FMTTYPE=image/jpeg:https://richmondsolareclipse.com/wp-content/uploads/2023/09/solar-eclipse-201.jpg
END:VEVENT
BEGIN:VEVENT
DTSTART;TZID=America/Indiana/Indianapolis:20231011T180000
DTEND;TZID=America/Indiana/Indianapolis:20231011T190000
DTSTAMP:20260422T081007
CREATED:20230921T164404Z
LAST-MODIFIED:20231230T153648Z
UID:1242-1697047200-1697050800@richmondsolareclipse.com
SUMMARY:Solar Eclipse 101: Get to Know About It All
DESCRIPTION:Excited for our upcoming solar eclipses? Yes\, two! Come to this session and make sure you’re ready. Astronomer Dr. Wes Tobin will make sure you know a solar umbra from penumbra and are prepared to view both!\nYou will have a chance to ask questions\, and each participant will leave with a pair of eclipse glasses. Participants may also be interested in our program “Solar Eclipse 201: Safe Viewing of the Sun” at Elstro Plaza (weather dependent)\, on Friday\, Oct. 13 from noon to 1 p.m.\nAbout the presenter\nWes Tobin is a Professor at Indiana University East. His research areas include observing and modeling eclipsing binary stars. His degrees are from Ball State\, Iowa State and Indiana State.\n\nThis program is provided in partnership with Indiana University East\, Richmond Parks and Recreation and Wayne County and Tourism Bureau. Registration is not required but is available to hold your spot. The Bard Room is handicapped accessible; once in the building\, use our front stairwell or elevator to reach the lower level. Should you have accessibility needs\, please email Beth in advance at BHarrick@mrlinfo.org to discuss accommodations so we can work to best welcome you!
URL:https://richmondsolareclipse.com/events/solar-eclipse-101-get-to-know-about-it-all/
LOCATION:Morrisson-Reeves Library\, 80 N 6th St\, Richmond\, IN\, 47374\, United States
CATEGORIES:Richmond
ATTACH;FMTTYPE=image/jpeg:https://richmondsolareclipse.com/wp-content/uploads/2023/09/solar-eclipse-101.jpg
END:VEVENT
BEGIN:VEVENT
DTSTART;TZID=America/Indiana/Indianapolis:20230719T090000
DTEND;TZID=America/Indiana/Indianapolis:20230719T100000
DTSTAMP:20260422T081007
CREATED:20230706T161231Z
LAST-MODIFIED:20231230T153648Z
UID:961-1689757200-1689760800@richmondsolareclipse.com
SUMMARY:Total Solar Eclipse Community Information Session
DESCRIPTION:On Monday\, April 8\, 2024\, Richmond/Wayne County will experience nearly 4 minutes of complete darkness during a once-in-a-lifetime occurrence of a Total Solar Eclipse. The awe-inspiring beauty of this celestial event has ignited the interest of travelers and astronomy enthusiasts alike\, bringing an estimated 100\,000 visitors to Wayne County! \nThe Wayne County Eclipse Task Force and the Wayne County Convention and Tourism Bureau are collaborating with IU East to present a  Total Solar Eclipse Community Information Session on Wednesday\, July 19th from 9:00 – 10:00 a.m. at Vivian Auditorium on the IU East Campus\, 2325 Chester Blvd\, Richmond\, IN. \nJoin us to learn about what is in the works as we prepare for the 2024 Total Solar Eclipse. Gather resources\, ask questions\, and learn how you can get involved with this exciting opportunity for Richmond / Wayne County. \n\nRegister Now
URL:https://richmondsolareclipse.com/events/total-solar-eclipse-community-information-session/
LOCATION:Vivian Auditorium\, 2325 Chester Boulevard\, Richmond\, IN\, 47374\, United States
CATEGORIES:Richmond
ATTACH;FMTTYPE=image/jpeg:https://richmondsolareclipse.com/wp-content/uploads/2023/07/community-meeting.jpg
END:VEVENT
END:VCALENDAR