BEGIN:VCALENDAR
VERSION:2.0
PRODID:-//Richmond Solar Eclipse - ECPv6.15.20//NONSGML v1.0//EN
CALSCALE:GREGORIAN
METHOD:PUBLISH
X-ORIGINAL-URL:https://richmondsolareclipse.com
X-WR-CALDESC:Events for Richmond Solar Eclipse
REFRESH-INTERVAL;VALUE=DURATION:PT1H
X-Robots-Tag:noindex
X-PUBLISHED-TTL:PT1H
BEGIN:VTIMEZONE
TZID:America/Indiana/Indianapolis
BEGIN:DAYLIGHT
TZOFFSETFROM:-0500
TZOFFSETTO:-0400
TZNAME:EDT
DTSTART:20230312T070000
END:DAYLIGHT
BEGIN:STANDARD
TZOFFSETFROM:-0400
TZOFFSETTO:-0500
TZNAME:EST
DTSTART:20231105T060000
END:STANDARD
BEGIN:DAYLIGHT
TZOFFSETFROM:-0500
TZOFFSETTO:-0400
TZNAME:EDT
DTSTART:20240310T070000
END:DAYLIGHT
BEGIN:STANDARD
TZOFFSETFROM:-0400
TZOFFSETTO:-0500
TZNAME:EST
DTSTART:20241103T060000
END:STANDARD
BEGIN:DAYLIGHT
TZOFFSETFROM:-0500
TZOFFSETTO:-0400
TZNAME:EDT
DTSTART:20250309T070000
END:DAYLIGHT
BEGIN:STANDARD
TZOFFSETFROM:-0400
TZOFFSETTO:-0500
TZNAME:EST
DTSTART:20251102T060000
END:STANDARD
END:VTIMEZONE
BEGIN:VEVENT
DTSTART;TZID=America/Indiana/Indianapolis:20240408T130000
DTEND;TZID=America/Indiana/Indianapolis:20240408T170000
DTSTAMP:20260422T050024
CREATED:20240205T203149Z
LAST-MODIFIED:20240213T212646Z
UID:1872-1712581200-1712595600@richmondsolareclipse.com
SUMMARY:Glen Miller Park Eclipse Event
DESCRIPTION:Enjoy Richmond Parks and Recreation Department Eclipse Day Events. \nBandshell events & Rosevelt Hill viewing site
URL:https://richmondsolareclipse.com/events/glen-miller-park-eclipse-event/
LOCATION:Glen Miller Park\, 2200 East Main St.\, Richmond\, IN\, 47374\, United States
CATEGORIES:Richmond,Viewing Location
ATTACH;FMTTYPE=image/jpeg:https://richmondsolareclipse.com/wp-content/uploads/2024/02/Glen-Miller-Sign-AG-scaled.jpg
END:VEVENT
BEGIN:VEVENT
DTSTART;TZID=America/Indiana/Indianapolis:20240408T130000
DTEND;TZID=America/Indiana/Indianapolis:20240408T160000
DTSTAMP:20260422T050024
CREATED:20240319T193006Z
LAST-MODIFIED:20240320T163051Z
UID:2267-1712581200-1712592000@richmondsolareclipse.com
SUMMARY:Living Faith Solar Eclipse Event
DESCRIPTION:Once in a lifetime eclipse viewing event. Over 120 parking lot spaces available with lawn seating. Lawn also available for family fun and games at your choosing. Our rural location allows for unobstructed views with minimal light pollution. Food available for purchase. Bring your family to a faith filled space.
URL:https://richmondsolareclipse.com/events/living-faith-solar-eclipse-event/
LOCATION:Living Faith Church of God\, 3777 Nolands Fork Rd\, Richmond\, IN\, 47374\, United States
CATEGORIES:Richmond,Viewing Location
ATTACH;FMTTYPE=image/jpeg:https://richmondsolareclipse.com/wp-content/uploads/2024/03/Now-Open1.jpg
END:VEVENT
BEGIN:VEVENT
DTSTART;TZID=America/Indiana/Indianapolis:20240408T120000
DTEND;TZID=America/Indiana/Indianapolis:20240408T160000
DTSTAMP:20260422T050024
CREATED:20240314T202452Z
LAST-MODIFIED:20240318T141148Z
UID:2142-1712577600-1712592000@richmondsolareclipse.com
SUMMARY:Sun\, Moon\, & Cars: Total Solar Eclipse Tailgate at the Model T Museum
DESCRIPTION:Tailgate alongside automotive enthusiasts in vintage or modern autos. Solar eclipse themed educational activities throughout the museum campus. Bring chairs\, snacks\, and non-alcoholic beverages. \nExclusive tour from 11:00 a.m. to 2:00 p.m. \nPre-registered tailgaters receive a free pair of Eclipse viewing glasses\, a gift bag\, and an exclusive privilege to privately tour the Model T Museum. \nAdmission: $25 for one vehicle and four attendees. Additional attendees $5 each. \nPreregister at here or call (765) 373-3106.
URL:https://richmondsolareclipse.com/events/sun-moon-cars-total-solar-eclipse-tailgate-at-the-model-t-museum/
LOCATION:Model T Museum\, 309 N. 8th St.\, Richmond\, IN\, 47374\, United States
CATEGORIES:Richmond,Viewing Location
ATTACH;FMTTYPE=image/png:https://richmondsolareclipse.com/wp-content/uploads/2024/03/Front-13-1024x791-1.png
END:VEVENT
BEGIN:VEVENT
DTSTART;TZID=America/Indiana/Indianapolis:20240408T110000
DTEND;TZID=America/Indiana/Indianapolis:20240408T230000
DTSTAMP:20260422T050024
CREATED:20240402T155430Z
LAST-MODIFIED:20240403T145821Z
UID:2499-1712574000-1712617200@richmondsolareclipse.com
SUMMARY:Generations Grill & Sports Bar
DESCRIPTION:Enjoy a top viewing with Generations Grill & Sports Bar! \nEclipse on the Rooftop Bar – Facility opens at 11 am \nCelebrate the eclipse on the rooftop patio at noon. A limited number of solar eclipse glasses will be provided for guests. Come early for food & drinks specials.       \n 
URL:https://richmondsolareclipse.com/events/generations-grill-sports-bar/
CATEGORIES:Viewing Location
ATTACH;FMTTYPE=image/jpeg:https://richmondsolareclipse.com/wp-content/uploads/2024/04/433518315_944874407640706_1550343780061522740_n.jpg
END:VEVENT
BEGIN:VEVENT
DTSTART;TZID=America/Indiana/Indianapolis:20240408T110000
DTEND;TZID=America/Indiana/Indianapolis:20240408T170000
DTSTAMP:20260422T050024
CREATED:20240211T162241Z
LAST-MODIFIED:20240312T141001Z
UID:1920-1712574000-1712595600@richmondsolareclipse.com
SUMMARY:Eclipse at East
DESCRIPTION:Lecture by Wes Tobin\, Ed.D.\, Assistant Professor of Physics\, Vivian Auditorium\,\n\nWhitewater Hall – Time 11 am-Noon \n\nSolar Walk – Time 11 am-2:30 pm.\n\nStarting at the main entrance follow the walking path to learn more about the solar system. \n\nSpace Movies\, Time 11 am-2:30 pm.\, Whitewater Hall Lobby\nScavenger Hunt – Time 11:30-2:30 pm.\, Whitewater Hall Lobby\n\nGrab your sheets and enjoy a fun hunt. Turn completed sheets in at same location by 2:15 pm. Winners will be announced at 2:30 pm. \n\nSolar Telescopes available for viewing – Time Noon-4 pm.\, Location– TBD\nEclipse Viewing – Time 3:07 pm.\n\n       Wes Tobin\, Ed. D.\, will guide visitors through the viewing.\n       Admission—Free / Eclipse glasses will be available for Free in the Whitewater Lobby.\n       Viewing is first come/first serve. The Den & Brewfus will be open for food & coffee purchases. \n 
URL:https://richmondsolareclipse.com/events/in-the-dark-at-iu-east/
LOCATION:Indiana University East\, 2325 Chester Blvd\, Richmond\, IN\, 47374\, United States
CATEGORIES:Richmond,Viewing Location
ATTACH;FMTTYPE=image/jpeg:https://richmondsolareclipse.com/wp-content/uploads/2024/02/65c68c698cfd5.jpg
END:VEVENT
BEGIN:VEVENT
DTSTART;TZID=America/Indiana/Indianapolis:20240408T100000
DTEND;TZID=America/Indiana/Indianapolis:20240408T153000
DTSTAMP:20260422T050024
CREATED:20231115T135131Z
LAST-MODIFIED:20240213T194440Z
UID:1569-1712570400-1712590200@richmondsolareclipse.com
SUMMARY:Solar Eclipse at Cope Environmental Center
DESCRIPTION:View the solar eclipse and spend the day learning at Cope Environmental Center. We will have programs and activities going on throughout the day. There will be food and drinks available for purchase\, viewing glasses provided\, merchandise\, and more! \nPlease make sure you bring your own chairs and blankets for viewing. No alcohol will be permitted and No animals except for service animals. As always reminder Pack it in – Pack it out here at CEC. Recycling containers will be available. You may enter at our Northside entrance – 1730 Airport Rd. Centerville\, IN 47330. \nTickets are $20 per person (3 and under free). Tickets are limited and must be purchased ahead of time. \nPurchase Tickets
URL:https://richmondsolareclipse.com/events/solar-eclipse-at-cope/
LOCATION:Cope Environmental Center\, 1730 Airport Road\, Centerville\, IN\, 47374\, United States
CATEGORIES:Centerville,Viewing Location
ATTACH;FMTTYPE=image/jpeg:https://richmondsolareclipse.com/wp-content/uploads/2023/11/cope-solar-eclipse.jpg
END:VEVENT
BEGIN:VEVENT
DTSTART;TZID=America/Indiana/Indianapolis:20240408T090000
DTEND;TZID=America/Indiana/Indianapolis:20240408T170000
DTSTAMP:20260422T050024
CREATED:20240224T132321Z
LAST-MODIFIED:20240224T132321Z
UID:2028-1712566800-1712595600@richmondsolareclipse.com
SUMMARY:Hayes Arboretum
DESCRIPTION:Enjoy the first signs of spring on the trails of Hayes Arboretum during our special extended hours. Visit the Nature Center for special activities and exhibits\, relax in the Bird Watching Room\, and hike any of the 16 miles of trail through the forest. Free and open to all. Parking is limited. Main Entrance Gates will close when all parking spaces are filled.
URL:https://richmondsolareclipse.com/events/hayes-arboretum-2/
LOCATION:Hayes Arboretum\, 801 Elks Rd.\, Richmond\, IN\, 47374\, United States
CATEGORIES:Richmond,Viewing Location
ATTACH;FMTTYPE=image/jpeg:https://richmondsolareclipse.com/wp-content/uploads/2024/01/hayes-arboretum.jpg
END:VEVENT
BEGIN:VEVENT
DTSTART;TZID=America/Indiana/Indianapolis:20240408T080000
DTEND;TZID=America/Indiana/Indianapolis:20240408T170000
DTSTAMP:20260422T050024
CREATED:20240319T193515Z
LAST-MODIFIED:20240319T193515Z
UID:2271-1712563200-1712595600@richmondsolareclipse.com
SUMMARY:Former NATCO Building
DESCRIPTION:Bring your chairs and blankets. $20 per car load.
URL:https://richmondsolareclipse.com/events/former-natco-building/
LOCATION:Former Natco Building\, 4600 US-40\, Richmond\, IN\, 47374\, United States
CATEGORIES:Viewing Location
END:VEVENT
BEGIN:VEVENT
DTSTART;TZID=America/Indiana/Indianapolis:20240408T070000
DTEND;TZID=America/Indiana/Indianapolis:20240408T170000
DTSTAMP:20260422T050024
CREATED:20240402T154715Z
LAST-MODIFIED:20240402T154715Z
UID:2496-1712559600-1712595600@richmondsolareclipse.com
SUMMARY:Hagerstown Elementary School
DESCRIPTION:Mon.\, April 8\, 2024 — Opening 7 am \n\nEclipse Parking Lot Viewing. Admission: Free\n\n 
URL:https://richmondsolareclipse.com/events/hagerstown-elementary-school/
LOCATION:Hagerstown Elementary School\, 299 N Sycamore St.\, Hagerstown\, IN\, 47346\, United States
CATEGORIES:Viewing Location
ATTACH;FMTTYPE=image/jpeg:https://richmondsolareclipse.com/wp-content/uploads/2024/04/Hagerstown-Elementary_n.jpg
END:VEVENT
BEGIN:VEVENT
DTSTART;VALUE=DATE:20240408
DTEND;VALUE=DATE:20240409
DTSTAMP:20260422T050025
CREATED:20240326T012508Z
LAST-MODIFIED:20240401T174008Z
UID:2311-1712534400-1712620799@richmondsolareclipse.com
SUMMARY:Levi and Catharine Coffin State Historic Site
DESCRIPTION:Eclipse Viewing – Parking lot viewing\, please bring your chairs and wait for totality. Enjoy a short film about the Coffins and learn about their role with the Underground Railroad. The gift shop will be selling eclipse glasses\, snacks and cold drinks. Our interpretive Center will be open for self-guided tours. \n\nAdmission: $2 per person.\n\nOn April 8th The grounds of the Levi and Catharine Coffin State Historic Site will be open for viewing the eclipse. Our parking lot will be blocked off to allow room for more folks to bring their chairs and wait for totality\, which will last for 3 minutes and 59 seconds and begins at 3:07 p.m.
URL:https://richmondsolareclipse.com/events/levi-and-catharine-coffin-state-historic-site/
LOCATION:Levi and Catharine Coffin State Historic Site\, 201 US Hwy 27\, Fountain City\, IN\, 47341\, United States
CATEGORIES:Viewing Location
ATTACH;FMTTYPE=image/jpeg:https://richmondsolareclipse.com/wp-content/uploads/2024/03/Coffin-House-exterior-w-door-open-1.jpg
END:VEVENT
BEGIN:VEVENT
DTSTART;VALUE=DATE:20240408
DTEND;VALUE=DATE:20240409
DTSTAMP:20260422T050025
CREATED:20240316T175252Z
LAST-MODIFIED:20240402T155746Z
UID:2171-1712534400-1712620799@richmondsolareclipse.com
SUMMARY:EEE - Economy Eclipse Experience
DESCRIPTION:Come view with EEE! \nApril 8 -9\, 2024 — Opening 9 am \n\nPublic Viewing – Field parking\, grassy\, porta potties\, grills & tailgating allowed\, no alcohol\n\npermitted\, pets permitted on leash at all times. First come\, first serve. \n\n1 vehicle per spot to park. 2 vehicles per spot to camp.\nFree eclipse glasses while supplies last.\nAdmission: $40 per car. Hours 9 am – 7 pm\n\nEmail for reservations economyeclipseexperience@gmail.com   \n 
URL:https://richmondsolareclipse.com/events/eee-economy-eclipse-experience/
LOCATION:Economy Eclipse Experience\, 11774 N. Williamson rd.\, Williamsburg\, IN\, 47393\, United States
CATEGORIES:Viewing Location
ATTACH;FMTTYPE=image/jpeg:https://richmondsolareclipse.com/wp-content/uploads/2024/03/eee.jpg
END:VEVENT
BEGIN:VEVENT
DTSTART;VALUE=DATE:20240408
DTEND;VALUE=DATE:20240409
DTSTAMP:20260422T050025
CREATED:20240312T140610Z
LAST-MODIFIED:20240402T163437Z
UID:2120-1712534400-1712620799@richmondsolareclipse.com
SUMMARY:Zook Family Farm
DESCRIPTION:Watch the Eclipse from Zook Family Farm\nEasy access from I-70 – just six miles north on US Highway 35 N\nRural open setting for a great view \nBarbeque chicken dinners for sale from 10 am. – 1 p.m.\nHomemade Potato Salad\nBaked Beans\nIce Cream\nLemonade/Iced Tea/Water\nEclipse viewing glasses for sale\nParking $20 per vehicle\nCall for reservations 765-542-3006 (leave message)
URL:https://richmondsolareclipse.com/events/zook-family-farm/
LOCATION:Zook Family Farm\, 8011 US-35\, Williamsburg\, IN\, 47393\, United States
CATEGORIES:Viewing Location,Williamsburg
ATTACH;FMTTYPE=image/png:https://richmondsolareclipse.com/wp-content/uploads/2024/03/Eclipse-FB-Post-23.png
END:VEVENT
BEGIN:VEVENT
DTSTART;VALUE=DATE:20240408
DTEND;VALUE=DATE:20240409
DTSTAMP:20260422T050025
CREATED:20240312T135218Z
LAST-MODIFIED:20240314T164010Z
UID:2114-1712534400-1712620799@richmondsolareclipse.com
SUMMARY:West River Friends Church
DESCRIPTION:Located very close to the center line of totality. View from parking lot\, gravel and grassy areas.\n5 Porta potties\, concession\, and eclipse glasses sales. No overnight parking and campers are not permitted before\, during\, or after the event due to space restrictions. \nBring your own chairs. No pets allowed. \nReservation Link
URL:https://richmondsolareclipse.com/events/west-river-friends-church/
LOCATION:West River Friends Church\, 10636 Lacy Rd\, Economy\, IN\, 47339\, United States
CATEGORIES:Viewing Location
ATTACH;FMTTYPE=image/jpeg:https://richmondsolareclipse.com/wp-content/uploads/2024/03/West-River-Friends-Church.jpg
END:VEVENT
BEGIN:VEVENT
DTSTART;VALUE=DATE:20240408
DTEND;VALUE=DATE:20240409
DTSTAMP:20260422T050025
CREATED:20240220T174728Z
LAST-MODIFIED:20240402T144648Z
UID:2000-1712534400-1712620799@richmondsolareclipse.com
SUMMARY:Forest Hills Country Club
DESCRIPTION:Mon.\, April 8\, 2024 — Opening 11 am \n\nEclipse Bash/Public Viewing – Time 11 am – 9 pm\n\n       By Reservations – Open to the public for lunch and dinner. Call or email Angie@fhcclub.com to reserve your spot.
URL:https://richmondsolareclipse.com/events/forest-hills-country-club/
LOCATION:Forest Hills Country Club\, 2169 S 23rd St\, Richmond\, IN\, 47374\, United States
CATEGORIES:Viewing Location
ATTACH;FMTTYPE=image/png:https://richmondsolareclipse.com/wp-content/uploads/2024/03/65dcf3c6c65f6.png
END:VEVENT
BEGIN:VEVENT
DTSTART;VALUE=DATE:20240408
DTEND;VALUE=DATE:20240409
DTSTAMP:20260422T050025
CREATED:20240220T174354Z
LAST-MODIFIED:20240402T145608Z
UID:1998-1712534400-1712620799@richmondsolareclipse.com
SUMMARY:New Testament Church of Christ
DESCRIPTION:Mon.\, April 8\, 2024 — Opening 8 am \n\nHours 8-6.\nSafe\, clear location for this once-in-a-lifetime event! Viewing\, restrooms\, games and food on site.\nAdmission: $20/vehicle up to 6 people/ $5 additional per person. First come\, first serve. \n\n  \n 
URL:https://richmondsolareclipse.com/events/new-testament-church-of-christ/
LOCATION:New Testament Church of Christ\, 752 W Main St\, Hagerstown\, IN\, 47346\, United States
CATEGORIES:Viewing Location
ATTACH;FMTTYPE=image/jpeg:https://richmondsolareclipse.com/wp-content/uploads/2024/02/New-Testament-Church-of-Christ-.jpg
END:VEVENT
BEGIN:VEVENT
DTSTART;VALUE=DATE:20240408
DTEND;VALUE=DATE:20240409
DTSTAMP:20260422T050025
CREATED:20240213T212828Z
LAST-MODIFIED:20240402T172145Z
UID:1970-1712534400-1712620799@richmondsolareclipse.com
SUMMARY:Shelton Fireworks
DESCRIPTION:First come\, first serve. Restrooms will be open. Free admission. No vendors.
URL:https://richmondsolareclipse.com/events/shelton-fireworks/
LOCATION:Shelton Fireworks\, 6401 National Rd E\, Richmond\, IN\, 47374\, United States
CATEGORIES:Richmond,Viewing Location
ATTACH;FMTTYPE=image/png:https://richmondsolareclipse.com/wp-content/uploads/2024/02/Shelton-Fireworks.png
END:VEVENT
BEGIN:VEVENT
DTSTART;VALUE=DATE:20240408
DTEND;VALUE=DATE:20240409
DTSTAMP:20260422T050025
CREATED:20240213T193652Z
LAST-MODIFIED:20240402T150216Z
UID:1953-1712534400-1712620799@richmondsolareclipse.com
SUMMARY:Four Leaf Honey Farm
DESCRIPTION:Mon.\, April 8\, 2024 — Opening 9 am \n\nEclipse Buzzing Through Viewing Site – Time 9 am – 4 pm\nPark your car and view the Eclipse\nFresh side food truck will be on site\nLearn about the honey bees and do eclipse shopping\nAdmission: Free\n\n 
URL:https://richmondsolareclipse.com/events/four-leaf-honey-farm/
LOCATION:Four Leaf Honey Farm\, 3251 IN-227\, Richmond\, IN\, 47374\, United States
CATEGORIES:Viewing Location
ATTACH;FMTTYPE=image/jpeg:https://richmondsolareclipse.com/wp-content/uploads/2024/02/4-Leaf-Honey-Farm.jpg
END:VEVENT
BEGIN:VEVENT
DTSTART;VALUE=DATE:20240408
DTEND;VALUE=DATE:20240409
DTSTAMP:20260422T050025
CREATED:20240121T140502Z
LAST-MODIFIED:20240402T172046Z
UID:1693-1712534400-1712620799@richmondsolareclipse.com
SUMMARY:Hagerstown Jr/Sr High School
DESCRIPTION:Enjoy Viewing at the Hagerstown Jr/Sr High School! \nMon.\, April 8\, 2024 — Opening 7 am \n\nEclipse Parking Lot Viewing. Admission: $25 per vehicle\n\n 
URL:https://richmondsolareclipse.com/events/hagerstown-jr-sr-high-school/
LOCATION:Hagerstown Jr/Sr High School\, 701 Baker Rd\, Hagerstown\, IN\, 47346\, United States
CATEGORIES:Viewing Location
ATTACH;FMTTYPE=image/png:https://richmondsolareclipse.com/wp-content/uploads/2024/01/Hagerstown-High-School.png
END:VEVENT
BEGIN:VEVENT
DTSTART;VALUE=DATE:20240408
DTEND;VALUE=DATE:20240409
DTSTAMP:20260422T050025
CREATED:20240121T140502Z
LAST-MODIFIED:20240402T163101Z
UID:1699-1712534400-1712620799@richmondsolareclipse.com
SUMMARY:Middlefork Reservoir
DESCRIPTION:Enjoy viewing close to the water.
URL:https://richmondsolareclipse.com/events/middlefork-reservoir/
LOCATION:Middlefork Reservoir\, 1750 Sylvan Nook Drive\, Richmond\, IN\, 47374\, United States
CATEGORIES:Viewing Location
ATTACH;FMTTYPE=image/jpeg:https://richmondsolareclipse.com/wp-content/uploads/2024/01/291920892_346352747682611_4974271820503952881_n.jpg
END:VEVENT
BEGIN:VEVENT
DTSTART;VALUE=DATE:20240408
DTEND;VALUE=DATE:20240409
DTSTAMP:20260422T050025
CREATED:20240121T140502Z
LAST-MODIFIED:20240402T153704Z
UID:1708-1712534400-1712620799@richmondsolareclipse.com
SUMMARY:Elks Lodge #649
DESCRIPTION:April 8\, 2024 — 11 am \n\nViewing site – Public parking as space permits.\nBuffet available for additional cost 11-1 pm.\nAdmission – $5 per vehicle\n\n 
URL:https://richmondsolareclipse.com/events/elks-lodge-649/
LOCATION:Elks Lodge #649\, 2100 US Hwy 27\, Richmond\, IN\, 47374\, United States
CATEGORIES:Viewing Location
ATTACH;FMTTYPE=image/png:https://richmondsolareclipse.com/wp-content/uploads/2024/01/Eclipse-FB-Post-21.png
END:VEVENT
BEGIN:VEVENT
DTSTART;VALUE=DATE:20240408
DTEND;VALUE=DATE:20240409
DTSTAMP:20260422T050025
CREATED:20240121T140502Z
LAST-MODIFIED:20240402T144240Z
UID:1681-1712534400-1712620799@richmondsolareclipse.com
SUMMARY:Centerville High School
DESCRIPTION:Mon.\, April 8 — Opening 11 am  \n\nPublic Viewing\n4 parking lots available. Various vendors\, concession stands\, and solar eclipse glasses available for purchase. No pets\, alcohol or tobacco permitted on school grounds.\nAdmission: $20 parking\n\n 
URL:https://richmondsolareclipse.com/events/centerville-high-school/
LOCATION:Centerville High School\, 507 Willow Grove Rd.\, Centerville\, IN\, 47330\, United States
CATEGORIES:Viewing Location
ATTACH;FMTTYPE=image/jpeg:https://richmondsolareclipse.com/wp-content/uploads/2024/01/432380348_818671806971792_7442855263778607288_n.jpg
END:VEVENT
BEGIN:VEVENT
DTSTART;VALUE=DATE:20240408
DTEND;VALUE=DATE:20240409
DTSTAMP:20260422T050025
CREATED:20240121T140502Z
LAST-MODIFIED:20240402T151918Z
UID:1711-1712534400-1712620799@richmondsolareclipse.com
SUMMARY:Dougherty Orchards
DESCRIPTION:Mon.\, April 8\, 2024 — Opening 8 am  \n\nPublic Viewing\, 1st come\, 1st serve – Opening Time 8 am. Admission: $5 per person\, Table reservations 6 guests $25.        \n\n\nBeer\, wine\, wine slushes\, and non-alcoholic beverages will be offered. Guests can also purchase apple cider donuts\, sandwiches\, and other food items. No outside alcohol. \nLimited edition eclipse wine\nDougherty Orchards and Winery offers a large 4\,800 sq. ft.\, pavilion. Clean indoor restrooms.\n\n 
URL:https://richmondsolareclipse.com/events/dougherty-orchards/
LOCATION:Dougherty Orchards\, 1117 Dougherty Rd\, Cambridge City\, IN\, 47327\, United States
CATEGORIES:Viewing Location
ATTACH;FMTTYPE=image/jpeg:https://richmondsolareclipse.com/wp-content/uploads/2024/03/429669419_805524944952259_1723937602039445698_n.jpg
END:VEVENT
BEGIN:VEVENT
DTSTART;VALUE=DATE:20240408
DTEND;VALUE=DATE:20240409
DTSTAMP:20260422T050025
CREATED:20240121T140502Z
LAST-MODIFIED:20240402T194919Z
UID:1687-1712534400-1712620799@richmondsolareclipse.com
SUMMARY:Cornerstone Family Market
DESCRIPTION:Mon.\, April 8 — Opening 10 am \n\nPrograms\, activities\, food and drinks available for purchase\, viewing glasses provided\, merchandise and more.\nBring your own chairs and blankets for viewing\, no animals\nAdmission: $20 per person – tickets must be purchased ahead of time\n\nWe have several sizes of campsites available. We have a country setting in between Centerville and Richmond on US 40. We have a full retail store with shopping and snacks available. We have indoor restrooms and sinks available from 7 am-midnight. We are next door to a Dollar General and a block from a convenience store. \nPricing depends on size of spot and they are available days before and after eclipse.  \nWe will have local artist themed artwork\, snacks and glasses available.  \nWe are pet friendly but require leashes on pets. \n\nCountry atmosphere within minutes of city.\nStay 1-7 days/Call for rates – Primitive Camping\nOver 75 spaces varying from 10×10 up to 40×40\nIndoor restrooms from 7am-midnight\nRV $65 per night\nCar $50 per night\nLimit of 7 people per site
URL:https://richmondsolareclipse.com/events/cornerstone-family-market/
LOCATION:Cornerstone Family Market\, 1121 East Main St.\, Centerville\, IN\, 47330\, United States
CATEGORIES:Viewing Location
ATTACH;FMTTYPE=image/png:https://richmondsolareclipse.com/wp-content/uploads/2024/01/Cornerstone-Family-Market-400x600-1.png
END:VEVENT
BEGIN:VEVENT
DTSTART;VALUE=DATE:20240408
DTEND;VALUE=DATE:20240409
DTSTAMP:20260422T050025
CREATED:20240121T140502Z
LAST-MODIFIED:20240121T140502Z
UID:1719-1712534400-1712620799@richmondsolareclipse.com
SUMMARY:Indiana State High Point
DESCRIPTION:
URL:https://richmondsolareclipse.com/events/indiana-state-high-point/
LOCATION:Indiana State High Point\, 11951 Elliot Rd\, Lynn\, IN\, 47335\, United States
CATEGORIES:Viewing Location
END:VEVENT
BEGIN:VEVENT
DTSTART;VALUE=DATE:20240408
DTEND;VALUE=DATE:20240409
DTSTAMP:20260422T050025
CREATED:20240121T140502Z
LAST-MODIFIED:20240402T151657Z
UID:1690-1712534400-1712620799@richmondsolareclipse.com
SUMMARY:Warm Glow Candle Company
DESCRIPTION:Mon.\, April 8 — Opening 8 am  \n\nGet Mooned at Warm Glow—Viewing Site 8 am—8 pm\nBring your lawn chairs and blankets to set up in our large grassy area for a great view. Come early\, shop our sale\, and eat lunch with us. Special eclipse candles.\nPet friendly\, please have pets on a leash.\nFree Admission\n\n 
URL:https://richmondsolareclipse.com/events/warm-glow-candle-company/
LOCATION:Warm Glow Candle Company\, 2131 North Centerville Rd\, Centerville\, IN\, 47330\, United States
CATEGORIES:Viewing Location
ATTACH;FMTTYPE=image/jpeg:https://richmondsolareclipse.com/wp-content/uploads/2024/03/432767446_800218735463186_2345625971135748342_n.jpg
END:VEVENT
BEGIN:VEVENT
DTSTART;VALUE=DATE:20240405
DTEND;VALUE=DATE:20240409
DTSTAMP:20260422T050025
CREATED:20230722T162057Z
LAST-MODIFIED:20240403T194456Z
UID:1086-1712275200-1712620799@richmondsolareclipse.com
SUMMARY:Eclipse & More 2024 - Wayne County Fairgrounds
DESCRIPTION:Plan now to be a part of the Eclipse & More 2024 Celebration! This 4-day event will be in full swing and held at the Wayne County Fairgrounds. Events will include Wind Wolves Traveling Kit Show\, Alien Egg Drop\, Zorb Balls\, Dancing LED Robots\, Night-time Drone Show\, Toxic Meltdown\, Bounce Houses\, Movie Night\, Live Entertainment\, Concerts\, Golf Cart Show\, Frisbee Golf\, Craft Vendors & Specialized Balloon Booth\, Food Vendors\, Multiple Beer Gardens and more. \nFriday\, April 5\n\nDj Bigg Millz – Various Times\nDancing LED Robot\nSweet Pain\, The Ultimate Tribute to Kiss Band – Admission: $15\, plus fees / 8 p.m.\n\nSaturday\, April 6\n\nDog Show – Admission: $5 per person/12 and under FREE /$5 per dog & $5 per class / 9 p.m. doors open\nHistoric Bicycle Ride through Richmond\nWind Wolves Traveling Kite Show\nDancing LED Robot\nDj Bigg Millz – various times\nPhoto Opportunity with Batman – Various Times\nLearn the MJ moonwalk – Various Times\nRichmond Jazz Orchestra – noon-2 p.m.\nJeff Rerick – noon\nLip Stick – 2 p.m.\nVintage – 3 /4 p.m.\nLed Zepllica\, The Led Zepplin Experience – Admission: $15\, plus fees / 8 p.m.\nRocking in the Barn\n\nEverfelt & Open Mic\nSlickcherry from the UK\nLive Remote\n\n\n\nSunday\, April 7\n\nWind Wolves Traveling Kite Show\nDancing LED Robot\nDj Bigg Millz – Various Times\nSoulful Sunday – Admission: $20 / 10 a.m.\nYour Favorite Transformers\nPhoto Opportunity with Batman – Various Times\nSean Lamb – Noon\nLocal Band – TBA / noon\nAlien Egg Drop – 1 p.m.\nGolf Cart Show – 3 p.m.\nMovie Night – 6 p.m.\nRocking in the Barn\n\nEverfelt & Open Mic\nSlickcherry from the UK\n\n\nStupify – Admission: $15\, plus fees / 8 p.m.\n\nMonday\, April 8\n\nDj Bigg Millz – Various Times\nLocal Band – TBA /2 p.m.\nElton John Experience\, Tommy Lee Thompson – Admission: $15\, plus fees / 6 p.m.\nDrone Show 8 p.m.\n\nNote: Fairgrounds admission is $5 per person (10 and under free)\, prices for headliners and other attractions are extra. If you have any questions\, please reach out to lockecr10@gmail.com \nCamping spots are available and open to the public. We have 400+ electric campsites available at this location\, as well as primitive camping sites. All primitive and car campers have access to shelter and heat throughout each night\, secure camping\, restrooms\, and showers. Mobile dump station available. Golf cart rental available. \n**Events and times can change. \n  \n  \n 
URL:https://richmondsolareclipse.com/events/eclipse-more-2024/
LOCATION:Wayne County Fairgrounds\, 861 Salisbury Road\, Richmond\, IN\, 47374\, United States
CATEGORIES:Richmond,Viewing Location
ATTACH;FMTTYPE=image/jpeg:https://richmondsolareclipse.com/wp-content/uploads/2023/07/eclipse-and-more-2024-1.jpg
END:VEVENT
BEGIN:VEVENT
DTSTART;VALUE=DATE:20240404
DTEND;VALUE=DATE:20240411
DTSTAMP:20260422T050025
CREATED:20240319T233414Z
LAST-MODIFIED:20240402T162833Z
UID:2275-1712188800-1712793599@richmondsolareclipse.com
SUMMARY:Williamsburg Nazarene Church
DESCRIPTION:Visit with us for a stunning view!  \nMon.\, April 8\, 2024 — Opening 9 am \n\nPublic Viewing— Various activities and restrooms. Located 1 block away from the Cardinal Greenway. Heated family center\, building open daily.\nPets allowed on lease\, must clean up after your pet.\nNo alcohol permitted.\nAdmission: $25/vehicle \n\n 
URL:https://richmondsolareclipse.com/events/williamsburg-nazarene-church/
LOCATION:Williamsburg Nazarene Church\, 8503 Pleasant St.\, Williamsburg\, IN\, 47393\, United States
CATEGORIES:Viewing Location
ATTACH;FMTTYPE=image/png:https://richmondsolareclipse.com/wp-content/uploads/2024/03/Eclipse-FB-Post-22.png
END:VEVENT
END:VCALENDAR