BEGIN:VCALENDAR
VERSION:2.0
PRODID:-//Richmond Solar Eclipse - ECPv6.15.20//NONSGML v1.0//EN
CALSCALE:GREGORIAN
METHOD:PUBLISH
X-WR-CALNAME:Richmond Solar Eclipse
X-ORIGINAL-URL:https://richmondsolareclipse.com
X-WR-CALDESC:Events for Richmond Solar Eclipse
REFRESH-INTERVAL;VALUE=DURATION:PT1H
X-Robots-Tag:noindex
X-PUBLISHED-TTL:PT1H
BEGIN:VTIMEZONE
TZID:America/Indiana/Indianapolis
BEGIN:DAYLIGHT
TZOFFSETFROM:-0500
TZOFFSETTO:-0400
TZNAME:EDT
DTSTART:20230312T070000
END:DAYLIGHT
BEGIN:STANDARD
TZOFFSETFROM:-0400
TZOFFSETTO:-0500
TZNAME:EST
DTSTART:20231105T060000
END:STANDARD
BEGIN:DAYLIGHT
TZOFFSETFROM:-0500
TZOFFSETTO:-0400
TZNAME:EDT
DTSTART:20240310T070000
END:DAYLIGHT
BEGIN:STANDARD
TZOFFSETFROM:-0400
TZOFFSETTO:-0500
TZNAME:EST
DTSTART:20241103T060000
END:STANDARD
BEGIN:DAYLIGHT
TZOFFSETFROM:-0500
TZOFFSETTO:-0400
TZNAME:EDT
DTSTART:20250309T070000
END:DAYLIGHT
BEGIN:STANDARD
TZOFFSETFROM:-0400
TZOFFSETTO:-0500
TZNAME:EST
DTSTART:20251102T060000
END:STANDARD
END:VTIMEZONE
BEGIN:VEVENT
DTSTART;VALUE=DATE:20240403
DTEND;VALUE=DATE:20240411
DTSTAMP:20260420T051856
CREATED:20240316T173448Z
LAST-MODIFIED:20240316T173513Z
UID:2150-1712102400-1712793599@richmondsolareclipse.com
SUMMARY:Cornerstone Family Market Camping
DESCRIPTION:We have several sizes of campsites available. We have a country setting in between Centerville and Richmond on US 40. We have a full retail store with shopping and snacks available. We have indoor restrooms and sinks available from 7 am-midnight. We are next door to a Dollar General and a block from a convenience store. \nPricing depends on size of spot and they are available days before and after eclipse.  \nWe will have local artist themed artwork\, snacks and glasses available.  \nWe are pet friendly but require leashes on pets. \nCountry atmosphere within minutes of city.
URL:https://richmondsolareclipse.com/events/cornerstone-family-market-camping/
LOCATION:Cornerstone Family Market\, 1121 East Main St.\, Centerville\, IN\, 47330\, United States
ATTACH;FMTTYPE=image/jpeg:https://richmondsolareclipse.com/wp-content/uploads/2024/01/cornerstone-family-market.jpg
END:VEVENT
END:VCALENDAR