BEGIN:VCALENDAR
VERSION:2.0
PRODID:-//Richmond Solar Eclipse - ECPv6.15.20//NONSGML v1.0//EN
CALSCALE:GREGORIAN
METHOD:PUBLISH
X-WR-CALNAME:Richmond Solar Eclipse
X-ORIGINAL-URL:https://richmondsolareclipse.com
X-WR-CALDESC:Events for Richmond Solar Eclipse
REFRESH-INTERVAL;VALUE=DURATION:PT1H
X-Robots-Tag:noindex
X-PUBLISHED-TTL:PT1H
BEGIN:VTIMEZONE
TZID:America/Indiana/Indianapolis
BEGIN:DAYLIGHT
TZOFFSETFROM:-0500
TZOFFSETTO:-0400
TZNAME:EDT
DTSTART:20230312T070000
END:DAYLIGHT
BEGIN:STANDARD
TZOFFSETFROM:-0400
TZOFFSETTO:-0500
TZNAME:EST
DTSTART:20231105T060000
END:STANDARD
BEGIN:DAYLIGHT
TZOFFSETFROM:-0500
TZOFFSETTO:-0400
TZNAME:EDT
DTSTART:20240310T070000
END:DAYLIGHT
BEGIN:STANDARD
TZOFFSETFROM:-0400
TZOFFSETTO:-0500
TZNAME:EST
DTSTART:20241103T060000
END:STANDARD
BEGIN:DAYLIGHT
TZOFFSETFROM:-0500
TZOFFSETTO:-0400
TZNAME:EDT
DTSTART:20250309T070000
END:DAYLIGHT
BEGIN:STANDARD
TZOFFSETFROM:-0400
TZOFFSETTO:-0500
TZNAME:EST
DTSTART:20251102T060000
END:STANDARD
END:VTIMEZONE
BEGIN:VEVENT
DTSTART;VALUE=DATE:20240404
DTEND;VALUE=DATE:20240410
DTSTAMP:20260416T085455
CREATED:20240316T175032Z
LAST-MODIFIED:20240319T191202Z
UID:2167-1712188800-1712707199@richmondsolareclipse.com
SUMMARY:Happy At The Homestead
DESCRIPTION:This is a 20 acre Hobby Farm\, with goats and chickens on the edge of the woods with a fully stocked farm pond. We are located 5 minutes from town and 10 minutes from a truck stop that would have pay showering facilities. Fresh water will be available on the property during designated daytime hours. \nThere will be fishing allowed on a first come first serve basis\, as the number per day will be limited ( $50 per day). We will provide you with all info needed to enjoy your stay at our farm\, Richmond and surrounding areas when you check in. There is one large firepit that will be stocked with wood and lit every evening. A liability waiver will need to be signed at check in.
URL:https://richmondsolareclipse.com/events/happy-at-the-homestead/
LOCATION:Happy At The Homestead\, 2398 Salisbury Road South\, Richmond\, IN\, 47374\, United States
ATTACH;FMTTYPE=image/jpeg:https://richmondsolareclipse.com/wp-content/uploads/2024/03/campground.jpg
END:VEVENT
END:VCALENDAR