BEGIN:VCALENDAR
VERSION:2.0
PRODID:-//Richmond Solar Eclipse - ECPv6.15.20//NONSGML v1.0//EN
CALSCALE:GREGORIAN
METHOD:PUBLISH
X-WR-CALNAME:Richmond Solar Eclipse
X-ORIGINAL-URL:https://richmondsolareclipse.com
X-WR-CALDESC:Events for Richmond Solar Eclipse
REFRESH-INTERVAL;VALUE=DURATION:PT1H
X-Robots-Tag:noindex
X-PUBLISHED-TTL:PT1H
BEGIN:VTIMEZONE
TZID:America/Indiana/Indianapolis
BEGIN:DAYLIGHT
TZOFFSETFROM:-0500
TZOFFSETTO:-0400
TZNAME:EDT
DTSTART:20230312T070000
END:DAYLIGHT
BEGIN:STANDARD
TZOFFSETFROM:-0400
TZOFFSETTO:-0500
TZNAME:EST
DTSTART:20231105T060000
END:STANDARD
BEGIN:DAYLIGHT
TZOFFSETFROM:-0500
TZOFFSETTO:-0400
TZNAME:EDT
DTSTART:20240310T070000
END:DAYLIGHT
BEGIN:STANDARD
TZOFFSETFROM:-0400
TZOFFSETTO:-0500
TZNAME:EST
DTSTART:20241103T060000
END:STANDARD
BEGIN:DAYLIGHT
TZOFFSETFROM:-0500
TZOFFSETTO:-0400
TZNAME:EDT
DTSTART:20250309T070000
END:DAYLIGHT
BEGIN:STANDARD
TZOFFSETFROM:-0400
TZOFFSETTO:-0500
TZNAME:EST
DTSTART:20251102T060000
END:STANDARD
END:VTIMEZONE
BEGIN:VEVENT
DTSTART;TZID=America/Indiana/Indianapolis:20240408T090000
DTEND;TZID=America/Indiana/Indianapolis:20240408T170000
DTSTAMP:20260420T051202
CREATED:20240224T132321Z
LAST-MODIFIED:20240224T132321Z
UID:2028-1712566800-1712595600@richmondsolareclipse.com
SUMMARY:Hayes Arboretum
DESCRIPTION:Enjoy the first signs of spring on the trails of Hayes Arboretum during our special extended hours. Visit the Nature Center for special activities and exhibits\, relax in the Bird Watching Room\, and hike any of the 16 miles of trail through the forest. Free and open to all. Parking is limited. Main Entrance Gates will close when all parking spaces are filled.
URL:https://richmondsolareclipse.com/events/hayes-arboretum-2/
LOCATION:Hayes Arboretum\, 801 Elks Rd.\, Richmond\, IN\, 47374\, United States
CATEGORIES:Richmond,Viewing Location
ATTACH;FMTTYPE=image/jpeg:https://richmondsolareclipse.com/wp-content/uploads/2024/01/hayes-arboretum.jpg
END:VEVENT
END:VCALENDAR